BEGIN:VCALENDAR
VERSION:2.0
PRODID:-//Backeddy Resort &amp; Marina - ECPv6.15.20//NONSGML v1.0//EN
CALSCALE:GREGORIAN
METHOD:PUBLISH
X-WR-CALNAME:Backeddy Resort &amp; Marina
X-ORIGINAL-URL:https://backeddy.ca
X-WR-CALDESC:Events for Backeddy Resort &amp; Marina
REFRESH-INTERVAL;VALUE=DURATION:PT1H
X-Robots-Tag:noindex
X-PUBLISHED-TTL:PT1H
BEGIN:VTIMEZONE
TZID:America/Vancouver
BEGIN:DAYLIGHT
TZOFFSETFROM:-0800
TZOFFSETTO:-0700
TZNAME:PDT
DTSTART:20240310T100000
END:DAYLIGHT
BEGIN:STANDARD
TZOFFSETFROM:-0700
TZOFFSETTO:-0800
TZNAME:PST
DTSTART:20241103T090000
END:STANDARD
BEGIN:DAYLIGHT
TZOFFSETFROM:-0800
TZOFFSETTO:-0700
TZNAME:PDT
DTSTART:20250309T100000
END:DAYLIGHT
BEGIN:STANDARD
TZOFFSETFROM:-0700
TZOFFSETTO:-0800
TZNAME:PST
DTSTART:20251102T090000
END:STANDARD
BEGIN:DAYLIGHT
TZOFFSETFROM:-0800
TZOFFSETTO:-0700
TZNAME:PDT
DTSTART:20260308T100000
END:DAYLIGHT
BEGIN:STANDARD
TZOFFSETFROM:-0700
TZOFFSETTO:-0800
TZNAME:PST
DTSTART:20261101T090000
END:STANDARD
END:VTIMEZONE
BEGIN:VEVENT
DTSTART;VALUE=DATE:20251006
DTEND;VALUE=DATE:20251101
DTSTAMP:20260423T191510
CREATED:20251006T195613Z
LAST-MODIFIED:20251202T001426Z
UID:6014-1759708800-1761955199@backeddy.ca
SUMMARY:📅 New Pub Hours for Fall
DESCRIPTION:Holiday Hours\nClosed Thursday December 25\nOpen Friday December 26: 12 -8\nOpen Saturday December 27: 12 – 8\nOpen Sunday December 28: 12 -8\nClosed Monday December 29th\nClosed Tuesday December 30th\nOpen Wednesday December 31st for Special New Years Dinner + Event\nClosed January 1st until February 13th.
URL:https://backeddy.ca/event/fall-pub-hours-2025/
LOCATION:Backeddy Pub\, 16660 Backeddy Road\, Egmont\, BC
CATEGORIES:Hours of Operation
ATTACH;FMTTYPE=image/png:https://backeddy.ca/wp-content/uploads/2025/10/event-fall-hours-2025.png
END:VEVENT
BEGIN:VEVENT
DTSTART;TZID=America/Vancouver:20251018T170000
DTEND;TZID=America/Vancouver:20251018T200000
DTSTAMP:20260423T191510
CREATED:20200827T163853Z
LAST-MODIFIED:20251024T162949Z
UID:3117-1760806800-1760817600@backeddy.ca
SUMMARY:🎵  Joe Stanton
DESCRIPTION:An Evening of Music with Joe Stanton.\nCelebrate the cozy fall season at the Backeddy Pub with Joe Stanton\, a Sunshine Coast singer-songwriter and fingerstyle guitarist. Enjoy soulful folk\, country\, and blues as Joe delivers heartfelt lyrics and intricate guitar with over 30 years of experience performing across Canada\, the U.S.\, and Europe. \nSavor locally inspired food\, craft beers\, and house cocktails from the Backeddy Pub menu while enjoying a memorable night of live acoustic music.
URL:https://backeddy.ca/event/joe-stanton-oct-18-2025/
LOCATION:Backeddy Pub\, 16660 Backeddy Road\, Egmont\, BC
CATEGORIES:Live Music
ATTACH;FMTTYPE=image/jpeg:https://backeddy.ca/wp-content/uploads/2024/10/event-music-joe-stanton.jpg
END:VEVENT
BEGIN:VEVENT
DTSTART;TZID=America/Vancouver:20251025T170000
DTEND;TZID=America/Vancouver:20251025T200000
DTSTAMP:20260423T191510
CREATED:20251023T204613Z
LAST-MODIFIED:20251024T163230Z
UID:6235-1761411600-1761422400@backeddy.ca
SUMMARY:🎵 Sean Peters
DESCRIPTION:Saturday Night Live Music with Sean Peters.\nCome enjoy ocean views\, delicious pub fare\, and a laid-back coastal vibe while Sean Peters brings his blend of acoustic folk\, blues\, and soul to the stage. Great music\, great food\, and great company — what more could you ask for? More info: facebook.com/sean.peters.508047
URL:https://backeddy.ca/event/live-music-sean-peters-oct25-2025/
LOCATION:Backeddy Pub\, 16660 Backeddy Road\, Egmont\, BC
CATEGORIES:Live Music
ATTACH;FMTTYPE=image/jpeg:https://backeddy.ca/wp-content/uploads/2024/10/event-music-sean-peters.jpg
END:VEVENT
BEGIN:VEVENT
DTSTART;VALUE=DATE:20251031
DTEND;VALUE=DATE:20251101
DTSTAMP:20260423T191510
CREATED:20251016T160151Z
LAST-MODIFIED:20251024T163303Z
UID:6039-1761868800-1761955199@backeddy.ca
SUMMARY:🎃Egmonsters Bash
DESCRIPTION:Join us in the Pub for a Halloween night to remember!\nCome in costume and get 50% off food\, enjoy free pool\, and sip on a $5 hot spiked cider while you take in the spooky vibes. Don’t miss our costume contest and $100 pub gift card draw at 7:30pm! \nMake it a getaway with our one-night accommodation special — we’re waiving the two-night minimum so you can stay in our modern oceanfront cabins\, cozy vintage cabins\, or charming inn rooms. Add Saturday night for just $75 and turn your Halloween escape into a full weekend of fun. Watch dazzling local fireworks\, warm up by a crackling fire on the ocean’s edge\, and enjoy an unforgettable night in Egmont. \nOffer not eligible to combine with other packages or promotions.
URL:https://backeddy.ca/event/egmonsters-bash-oct-31-2025/
LOCATION:Backeddy Pub\, 16660 Backeddy Road\, Egmont\, BC
CATEGORIES:Pub Specials,Seasonal & Special Events
ATTACH;FMTTYPE=image/png:https://backeddy.ca/wp-content/uploads/2025/10/event-50off-halloween.png
END:VEVENT
END:VCALENDAR