BEGIN:VCALENDAR
VERSION:2.0
PRODID:-//Backeddy Resort &amp; Marina - ECPv6.15.20//NONSGML v1.0//EN
CALSCALE:GREGORIAN
METHOD:PUBLISH
X-ORIGINAL-URL:https://backeddy.ca
X-WR-CALDESC:Events for Backeddy Resort &amp; Marina
REFRESH-INTERVAL;VALUE=DURATION:PT1H
X-Robots-Tag:noindex
X-PUBLISHED-TTL:PT1H
BEGIN:VTIMEZONE
TZID:America/Vancouver
BEGIN:DAYLIGHT
TZOFFSETFROM:-0800
TZOFFSETTO:-0700
TZNAME:PDT
DTSTART:20240310T100000
END:DAYLIGHT
BEGIN:STANDARD
TZOFFSETFROM:-0700
TZOFFSETTO:-0800
TZNAME:PST
DTSTART:20241103T090000
END:STANDARD
BEGIN:DAYLIGHT
TZOFFSETFROM:-0800
TZOFFSETTO:-0700
TZNAME:PDT
DTSTART:20250309T100000
END:DAYLIGHT
BEGIN:STANDARD
TZOFFSETFROM:-0700
TZOFFSETTO:-0800
TZNAME:PST
DTSTART:20251102T090000
END:STANDARD
BEGIN:DAYLIGHT
TZOFFSETFROM:-0800
TZOFFSETTO:-0700
TZNAME:PDT
DTSTART:20260308T100000
END:DAYLIGHT
BEGIN:STANDARD
TZOFFSETFROM:-0700
TZOFFSETTO:-0800
TZNAME:PST
DTSTART:20261101T090000
END:STANDARD
BEGIN:DAYLIGHT
TZOFFSETFROM:-0800
TZOFFSETTO:-0700
TZNAME:PDT
DTSTART:20270314T100000
END:DAYLIGHT
BEGIN:STANDARD
TZOFFSETFROM:-0700
TZOFFSETTO:-0800
TZNAME:PST
DTSTART:20271107T090000
END:STANDARD
END:VTIMEZONE
BEGIN:VEVENT
DTSTART;VALUE=DATE:20260312
DTEND;VALUE=DATE:20260316
DTSTAMP:20260423T094054
CREATED:20260209T230042Z
LAST-MODIFIED:20260302T194759Z
UID:6944-1773273600-1773619199@backeddy.ca
SUMMARY:🍽️ Sunshine Coast Flavour Festival (Mar 12-15th)
DESCRIPTION:3-Course Prix-Fixe Menu at The Backeddy\nEach dish was thoughtfully crafted to champion local Sunshine Coast businesses. \nVIEW MENU\nHours of Operation during Flavour Festival:\nMarch 6th–8th (Fri–Sun): 12–8 pm\nMarch 12th–15th (Thu–Sun): 12–8 pm\nWalk-ins only\, no advanced reservations
URL:https://backeddy.ca/event/sunshine-coast-flavour-festival-2026-1/
LOCATION:Backeddy Pub\, 16660 Backeddy Road\, Egmont\, BC
CATEGORIES:Pub Specials
ATTACH;FMTTYPE=image/png:https://backeddy.ca/wp-content/uploads/2026/02/event-pub-flavour-festival-menu.png
END:VEVENT
BEGIN:VEVENT
DTSTART;VALUE=DATE:20260306
DTEND;VALUE=DATE:20260309
DTSTAMP:20260423T094054
CREATED:20260209T215825Z
LAST-MODIFIED:20260302T194810Z
UID:6924-1772755200-1773014399@backeddy.ca
SUMMARY:🍽️ Sunshine Coast Flavour Festival (Mar 6-8th)
DESCRIPTION:3-Course Prix-Fixe Menu at The Backeddy\nEach dish was thoughtfully crafted to champion local Sunshine Coast businesses. \nVIEW MENU\nHours of Operation during Flavour Festival:\nMarch 6th–8th (Fri–Sun): 12–8 pm\nMarch 12th–15th (Thu–Sun): 12–8 pm\nWalk-ins only\, no advanced reservations
URL:https://backeddy.ca/event/sunshine-coast-flavour-festival-2026/
LOCATION:Backeddy Pub\, 16660 Backeddy Road\, Egmont\, BC
CATEGORIES:Pub Specials
ATTACH;FMTTYPE=image/png:https://backeddy.ca/wp-content/uploads/2026/02/event-pub-flavour-festival-menu.png
END:VEVENT
BEGIN:VEVENT
DTSTART;VALUE=DATE:20260227
DTEND;VALUE=DATE:20260228
DTSTAMP:20260423T094054
CREATED:20251103T172914Z
LAST-MODIFIED:20251103T172914Z
UID:6641-1772150400-1772236799@backeddy.ca
SUMMARY:🍽️ Feature Fridays
DESCRIPTION:30% OFF Chef Mike’s Weekly Feature.\nThe tide turns every Friday – new dish\, same Backeddy soul. Fresh\, local\, and inspired by the current. \nVIEW PUB MENU\nSpecials and discounts are for dine-in only. Takeout not included.
URL:https://backeddy.ca/event/feature-fridays-pub-feb27/
LOCATION:Backeddy Pub\, 16660 Backeddy Road\, Egmont\, BC
CATEGORIES:Pub Specials
ATTACH;FMTTYPE=image/jpeg:https://backeddy.ca/wp-content/uploads/2025/10/event-pub-feature-fridays.jpg
END:VEVENT
BEGIN:VEVENT
DTSTART;VALUE=DATE:20260226
DTEND;VALUE=DATE:20260227
DTSTAMP:20260423T094054
CREATED:20251103T171531Z
LAST-MODIFIED:20251103T171531Z
UID:6598-1772064000-1772150399@backeddy.ca
SUMMARY:🥣 Chowder Pot Thursdays
DESCRIPTION:$9 Bowls of House Chowder.\nFrom the galley to your belly — a fresh pot made every week at the Backeddy Pub. Creamy\, hearty\, and dockside cozy. Warm up to a bowl and a view of the bay. \nVIEW PUB MENU\nSpecials and discounts are for dine-in only. Takeout not included.
URL:https://backeddy.ca/event/chowder-pot-thursdays-feb26/
LOCATION:Backeddy Pub\, 16660 Backeddy Road\, Egmont\, BC
CATEGORIES:Pub Specials
ATTACH;FMTTYPE=image/jpeg:https://backeddy.ca/wp-content/uploads/2025/10/event-pub-chowder.jpg
END:VEVENT
BEGIN:VEVENT
DTSTART;VALUE=DATE:20260222
DTEND;VALUE=DATE:20260223
DTSTAMP:20260423T094054
CREATED:20251103T170222Z
LAST-MODIFIED:20251103T170222Z
UID:6554-1771718400-1771804799@backeddy.ca
SUMMARY:🐟 Sunday 2-FOR-1 Fish & Chips
DESCRIPTION:Crispy. Golden. Legendary.\nBring a friend – or just eat like one. The best kind of Sunday tradition. \nBeer Battered 6oz Ocean Wise Basa served with house-cut BC Kennebec fries\, tartar sauce\, and a squeeze of lemon. Add a side of apple coleslaw for just $1 to complete the meal. \nVIEW PUB MENU\nSpecials and discounts are for dine-in only. Takeout not included.
URL:https://backeddy.ca/event/sunday-2-for-1-fish-chips-feb22/
LOCATION:Backeddy Pub\, 16660 Backeddy Road\, Egmont\, BC
CATEGORIES:Pub Specials
ATTACH;FMTTYPE=image/jpeg:https://backeddy.ca/wp-content/uploads/2025/10/event-pub-fish-chips.jpg
END:VEVENT
BEGIN:VEVENT
DTSTART;VALUE=DATE:20260220
DTEND;VALUE=DATE:20260221
DTSTAMP:20260423T094054
CREATED:20251103T172841Z
LAST-MODIFIED:20251103T172841Z
UID:6638-1771545600-1771631999@backeddy.ca
SUMMARY:🍽️ Feature Fridays
DESCRIPTION:30% OFF Chef Mike’s Weekly Feature.\nThe tide turns every Friday – new dish\, same Backeddy soul. Fresh\, local\, and inspired by the current. \nVIEW PUB MENU\nSpecials and discounts are for dine-in only. Takeout not included.
URL:https://backeddy.ca/event/feature-fridays-pub-feb20/
LOCATION:Backeddy Pub\, 16660 Backeddy Road\, Egmont\, BC
CATEGORIES:Pub Specials
ATTACH;FMTTYPE=image/jpeg:https://backeddy.ca/wp-content/uploads/2025/10/event-pub-feature-fridays.jpg
END:VEVENT
BEGIN:VEVENT
DTSTART;VALUE=DATE:20260219
DTEND;VALUE=DATE:20260220
DTSTAMP:20260423T094054
CREATED:20251103T171431Z
LAST-MODIFIED:20251103T171431Z
UID:6594-1771459200-1771545599@backeddy.ca
SUMMARY:🥣 Chowder Pot Thursdays
DESCRIPTION:$9 Bowls of House Chowder.\nFrom the galley to your belly — a fresh pot made every week at the Backeddy Pub. Creamy\, hearty\, and dockside cozy. Warm up to a bowl and a view of the bay. \nVIEW PUB MENU\nSpecials and discounts are for dine-in only. Takeout not included.
URL:https://backeddy.ca/event/chowder-pot-thursdays-feb19/
LOCATION:Backeddy Pub\, 16660 Backeddy Road\, Egmont\, BC
CATEGORIES:Pub Specials
ATTACH;FMTTYPE=image/jpeg:https://backeddy.ca/wp-content/uploads/2025/10/event-pub-chowder.jpg
END:VEVENT
BEGIN:VEVENT
DTSTART;VALUE=DATE:20260215
DTEND;VALUE=DATE:20260216
DTSTAMP:20260423T094054
CREATED:20251103T170150Z
LAST-MODIFIED:20251103T170150Z
UID:6551-1771113600-1771199999@backeddy.ca
SUMMARY:🐟 Sunday 2-FOR-1 Fish & Chips
DESCRIPTION:Crispy. Golden. Legendary.\nBring a friend – or just eat like one. The best kind of Sunday tradition. \nBeer Battered 6oz Ocean Wise Basa served with house-cut BC Kennebec fries\, tartar sauce\, and a squeeze of lemon. Add a side of apple coleslaw for just $1 to complete the meal. \nVIEW PUB MENU\nSpecials and discounts are for dine-in only. Takeout not included.
URL:https://backeddy.ca/event/sunday-2-for-1-fish-chips-feb15/
LOCATION:Backeddy Pub\, 16660 Backeddy Road\, Egmont\, BC
CATEGORIES:Pub Specials
ATTACH;FMTTYPE=image/jpeg:https://backeddy.ca/wp-content/uploads/2025/10/event-pub-fish-chips.jpg
END:VEVENT
BEGIN:VEVENT
DTSTART;VALUE=DATE:20260213
DTEND;VALUE=DATE:20260214
DTSTAMP:20260423T094054
CREATED:20251103T172817Z
LAST-MODIFIED:20251103T172817Z
UID:6635-1770940800-1771027199@backeddy.ca
SUMMARY:🍽️ Feature Fridays
DESCRIPTION:30% OFF Chef Mike’s Weekly Feature.\nThe tide turns every Friday – new dish\, same Backeddy soul. Fresh\, local\, and inspired by the current. \nVIEW PUB MENU\nSpecials and discounts are for dine-in only. Takeout not included.
URL:https://backeddy.ca/event/feature-fridays-pub-feb13/
LOCATION:Backeddy Pub\, 16660 Backeddy Road\, Egmont\, BC
CATEGORIES:Pub Specials
ATTACH;FMTTYPE=image/jpeg:https://backeddy.ca/wp-content/uploads/2025/10/event-pub-feature-fridays.jpg
END:VEVENT
BEGIN:VEVENT
DTSTART;VALUE=DATE:20260212
DTEND;VALUE=DATE:20260213
DTSTAMP:20260423T094054
CREATED:20251103T171400Z
LAST-MODIFIED:20251103T171445Z
UID:6591-1770854400-1770940799@backeddy.ca
SUMMARY:🥣 Chowder Pot Thursdays
DESCRIPTION:$9 Bowls of House Chowder.\nFrom the galley to your belly — a fresh pot made every week at the Backeddy Pub. Creamy\, hearty\, and dockside cozy. Warm up to a bowl and a view of the bay. \nVIEW PUB MENU\nSpecials and discounts are for dine-in only. Takeout not included.
URL:https://backeddy.ca/event/chowder-pot-thursdays-feb12/
LOCATION:Backeddy Pub\, 16660 Backeddy Road\, Egmont\, BC
CATEGORIES:Pub Specials
ATTACH;FMTTYPE=image/jpeg:https://backeddy.ca/wp-content/uploads/2025/10/event-pub-chowder.jpg
END:VEVENT
BEGIN:VEVENT
DTSTART;VALUE=DATE:20251228
DTEND;VALUE=DATE:20251229
DTSTAMP:20260423T094054
CREATED:20251103T165639Z
LAST-MODIFIED:20251103T165639Z
UID:6531-1766880000-1766966399@backeddy.ca
SUMMARY:🐟 Sunday 2-FOR-1 Fish & Chips
DESCRIPTION:Crispy. Golden. Legendary.\nBring a friend – or just eat like one. The best kind of Sunday tradition. \nBeer Battered 6oz Ocean Wise Basa served with house-cut BC Kennebec fries\, tartar sauce\, and a squeeze of lemon. Add a side of apple coleslaw for just $1 to complete the meal. \nVIEW PUB MENU\nSpecials and discounts are for dine-in only. Takeout not included.
URL:https://backeddy.ca/event/sunday-2-for-1-fish-chips-dec28/
LOCATION:Backeddy Pub\, 16660 Backeddy Road\, Egmont\, BC
CATEGORIES:Pub Specials
ATTACH;FMTTYPE=image/jpeg:https://backeddy.ca/wp-content/uploads/2025/10/event-pub-fish-chips.jpg
END:VEVENT
BEGIN:VEVENT
DTSTART;VALUE=DATE:20251226
DTEND;VALUE=DATE:20251227
DTSTAMP:20260423T094054
CREATED:20251209T002840Z
LAST-MODIFIED:20251209T002840Z
UID:6816-1766707200-1766793599@backeddy.ca
SUMMARY:🍽️ Feature Fridays
DESCRIPTION:30% OFF Chef Mike’s Weekly Feature.\nThe tide turns every Friday – new dish\, same Backeddy soul. Fresh\, local\, and inspired by the current. \nVIEW PUB MENU\nSpecials and discounts are for dine-in only. Takeout not included.
URL:https://backeddy.ca/event/feature-fridays-pub-dec26/
LOCATION:Backeddy Pub\, 16660 Backeddy Road\, Egmont\, BC
CATEGORIES:Pub Specials
ATTACH;FMTTYPE=image/jpeg:https://backeddy.ca/wp-content/uploads/2025/10/event-pub-feature-fridays.jpg
END:VEVENT
BEGIN:VEVENT
DTSTART;VALUE=DATE:20251221
DTEND;VALUE=DATE:20251222
DTSTAMP:20260423T094054
CREATED:20251103T165600Z
LAST-MODIFIED:20251103T165600Z
UID:6528-1766275200-1766361599@backeddy.ca
SUMMARY:🐟 Sunday 2-FOR-1 Fish & Chips
DESCRIPTION:Crispy. Golden. Legendary.\nBring a friend – or just eat like one. The best kind of Sunday tradition. \nBeer Battered 6oz Ocean Wise Basa served with house-cut BC Kennebec fries\, tartar sauce\, and a squeeze of lemon. Add a side of apple coleslaw for just $1 to complete the meal. \nVIEW PUB MENU\nSpecials and discounts are for dine-in only. Takeout not included.
URL:https://backeddy.ca/event/sunday-2-for-1-fish-chips-dec21/
LOCATION:Backeddy Pub\, 16660 Backeddy Road\, Egmont\, BC
CATEGORIES:Pub Specials
ATTACH;FMTTYPE=image/jpeg:https://backeddy.ca/wp-content/uploads/2025/10/event-pub-fish-chips.jpg
END:VEVENT
BEGIN:VEVENT
DTSTART;VALUE=DATE:20251219
DTEND;VALUE=DATE:20251220
DTSTAMP:20260423T094054
CREATED:20251103T172303Z
LAST-MODIFIED:20251103T172303Z
UID:6611-1766102400-1766188799@backeddy.ca
SUMMARY:🍽️ Feature Fridays
DESCRIPTION:30% OFF Chef Mike’s Weekly Feature.\nThe tide turns every Friday – new dish\, same Backeddy soul. Fresh\, local\, and inspired by the current. \nVIEW PUB MENU\nSpecials and discounts are for dine-in only. Takeout not included.
URL:https://backeddy.ca/event/feature-fridays-pub-dec19/
LOCATION:Backeddy Pub\, 16660 Backeddy Road\, Egmont\, BC
CATEGORIES:Pub Specials
ATTACH;FMTTYPE=image/jpeg:https://backeddy.ca/wp-content/uploads/2025/10/event-pub-feature-fridays.jpg
END:VEVENT
BEGIN:VEVENT
DTSTART;VALUE=DATE:20251218
DTEND;VALUE=DATE:20251219
DTSTAMP:20260423T094054
CREATED:20251103T170829Z
LAST-MODIFIED:20251103T170829Z
UID:6567-1766016000-1766102399@backeddy.ca
SUMMARY:🥣 Chowder Pot Thursdays
DESCRIPTION:$9 Bowls of House Chowder.\nFrom the galley to your belly — a fresh pot made every week at the Backeddy Pub. Creamy\, hearty\, and dockside cozy. Warm up to a bowl and a view of the bay. \nVIEW PUB MENU\nSpecials and discounts are for dine-in only. Takeout not included.
URL:https://backeddy.ca/event/https-backeddy-ca-event-chowder-pot-thursdays-dec18/
LOCATION:Backeddy Pub\, 16660 Backeddy Road\, Egmont\, BC
CATEGORIES:Pub Specials
ATTACH;FMTTYPE=image/jpeg:https://backeddy.ca/wp-content/uploads/2025/10/event-pub-chowder.jpg
END:VEVENT
BEGIN:VEVENT
DTSTART;VALUE=DATE:20251214
DTEND;VALUE=DATE:20251215
DTSTAMP:20260423T094054
CREATED:20251103T165522Z
LAST-MODIFIED:20251103T165522Z
UID:6525-1765670400-1765756799@backeddy.ca
SUMMARY:🐟 Sunday 2-FOR-1 Fish & Chips
DESCRIPTION:Crispy. Golden. Legendary.\nBring a friend – or just eat like one. The best kind of Sunday tradition. \nBeer Battered 6oz Ocean Wise Basa served with house-cut BC Kennebec fries\, tartar sauce\, and a squeeze of lemon. Add a side of apple coleslaw for just $1 to complete the meal. \nVIEW PUB MENU\nSpecials and discounts are for dine-in only. Takeout not included.
URL:https://backeddy.ca/event/sunday-2-for-1-fish-chips-dec14/
LOCATION:Backeddy Pub\, 16660 Backeddy Road\, Egmont\, BC
CATEGORIES:Pub Specials
ATTACH;FMTTYPE=image/jpeg:https://backeddy.ca/wp-content/uploads/2025/10/event-pub-fish-chips.jpg
END:VEVENT
BEGIN:VEVENT
DTSTART;VALUE=DATE:20251212
DTEND;VALUE=DATE:20251213
DTSTAMP:20260423T094054
CREATED:20251103T172236Z
LAST-MODIFIED:20251103T172236Z
UID:6608-1765497600-1765583999@backeddy.ca
SUMMARY:🍽️ Feature Fridays
DESCRIPTION:30% OFF Chef Mike’s Weekly Feature.\nThe tide turns every Friday – new dish\, same Backeddy soul. Fresh\, local\, and inspired by the current. \nVIEW PUB MENU\nSpecials and discounts are for dine-in only. Takeout not included.
URL:https://backeddy.ca/event/feature-fridays-pub-dec12/
LOCATION:Backeddy Pub\, 16660 Backeddy Road\, Egmont\, BC
CATEGORIES:Pub Specials
ATTACH;FMTTYPE=image/jpeg:https://backeddy.ca/wp-content/uploads/2025/10/event-pub-feature-fridays.jpg
END:VEVENT
BEGIN:VEVENT
DTSTART;VALUE=DATE:20251211
DTEND;VALUE=DATE:20251212
DTSTAMP:20260423T094054
CREATED:20251103T170754Z
LAST-MODIFIED:20251103T170754Z
UID:6564-1765411200-1765497599@backeddy.ca
SUMMARY:🥣 Chowder Pot Thursdays
DESCRIPTION:$9 Bowls of House Chowder.\nFrom the galley to your belly — a fresh pot made every week at the Backeddy Pub. Creamy\, hearty\, and dockside cozy. Warm up to a bowl and a view of the bay. \nVIEW PUB MENU\nSpecials and discounts are for dine-in only. Takeout not included.
URL:https://backeddy.ca/event/https-backeddy-ca-event-chowder-pot-thursdays-dec11/
LOCATION:Backeddy Pub\, 16660 Backeddy Road\, Egmont\, BC
CATEGORIES:Pub Specials
ATTACH;FMTTYPE=image/jpeg:https://backeddy.ca/wp-content/uploads/2025/10/event-pub-chowder.jpg
END:VEVENT
BEGIN:VEVENT
DTSTART;VALUE=DATE:20251207
DTEND;VALUE=DATE:20251208
DTSTAMP:20260423T094054
CREATED:20251103T165421Z
LAST-MODIFIED:20251103T165447Z
UID:6523-1765065600-1765151999@backeddy.ca
SUMMARY:🐟 Sunday 2-FOR-1 Fish & Chips
DESCRIPTION:Crispy. Golden. Legendary.\nBring a friend – or just eat like one. The best kind of Sunday tradition. \nBeer Battered 6oz Ocean Wise Basa served with house-cut BC Kennebec fries\, tartar sauce\, and a squeeze of lemon. Add a side of apple coleslaw for just $1 to complete the meal. \nVIEW PUB MENU\nSpecials and discounts are for dine-in only. Takeout not included.
URL:https://backeddy.ca/event/sunday-2-for-1-fish-chips-dec7/
LOCATION:Backeddy Pub\, 16660 Backeddy Road\, Egmont\, BC
CATEGORIES:Pub Specials
ATTACH;FMTTYPE=image/jpeg:https://backeddy.ca/wp-content/uploads/2025/10/event-pub-fish-chips.jpg
END:VEVENT
BEGIN:VEVENT
DTSTART;VALUE=DATE:20251205
DTEND;VALUE=DATE:20251206
DTSTAMP:20260423T094054
CREATED:20251103T172154Z
LAST-MODIFIED:20251103T172154Z
UID:6605-1764892800-1764979199@backeddy.ca
SUMMARY:🍽️ Feature Fridays
DESCRIPTION:30% OFF Chef Mike’s Weekly Feature.\nThe tide turns every Friday – new dish\, same Backeddy soul. Fresh\, local\, and inspired by the current. \nVIEW PUB MENU\nSpecials and discounts are for dine-in only. Takeout not included.
URL:https://backeddy.ca/event/feature-fridays-pub-dec5/
LOCATION:Backeddy Pub\, 16660 Backeddy Road\, Egmont\, BC
CATEGORIES:Pub Specials
ATTACH;FMTTYPE=image/jpeg:https://backeddy.ca/wp-content/uploads/2025/10/event-pub-feature-fridays.jpg
END:VEVENT
BEGIN:VEVENT
DTSTART;VALUE=DATE:20251204
DTEND;VALUE=DATE:20251205
DTSTAMP:20260423T094054
CREATED:20251103T170409Z
LAST-MODIFIED:20251103T170409Z
UID:6557-1764806400-1764892799@backeddy.ca
SUMMARY:🥣 Chowder Pot Thursdays
DESCRIPTION:$9 Bowls of House Chowder.\nFrom the galley to your belly — a fresh pot made every week at the Backeddy Pub. Creamy\, hearty\, and dockside cozy. Warm up to a bowl and a view of the bay. \nVIEW PUB MENU\nSpecials and discounts are for dine-in only. Takeout not included.
URL:https://backeddy.ca/event/chowder-pot-thursdays-dec4/
LOCATION:Backeddy Pub\, 16660 Backeddy Road\, Egmont\, BC
CATEGORIES:Pub Specials
ATTACH;FMTTYPE=image/jpeg:https://backeddy.ca/wp-content/uploads/2025/10/event-pub-chowder.jpg
END:VEVENT
BEGIN:VEVENT
DTSTART;VALUE=DATE:20251130
DTEND;VALUE=DATE:20251201
DTSTAMP:20260423T094054
CREATED:20251024T212615Z
LAST-MODIFIED:20251103T165128Z
UID:6446-1764460800-1764547199@backeddy.ca
SUMMARY:🐟 Sunday 2-FOR-1 Fish & Chips
DESCRIPTION:Crispy. Golden. Legendary.\nBring a friend – or just eat like one. The best kind of Sunday tradition. \nBeer Battered 6oz Ocean Wise Basa served with house-cut BC Kennebec fries\, tartar sauce\, and a squeeze of lemon. Add a side of apple coleslaw for just $1 to complete the meal. \nVIEW PUB MENU\nSpecials and discounts are for dine-in only. Takeout not included.
URL:https://backeddy.ca/event/sunday-2-for-1-fish-chips-nov30/
LOCATION:Backeddy Pub\, 16660 Backeddy Road\, Egmont\, BC
CATEGORIES:Pub Specials
ATTACH;FMTTYPE=image/jpeg:https://backeddy.ca/wp-content/uploads/2025/10/event-pub-fish-chips.jpg
END:VEVENT
BEGIN:VEVENT
DTSTART;VALUE=DATE:20251128
DTEND;VALUE=DATE:20251129
DTSTAMP:20260423T094054
CREATED:20251024T212412Z
LAST-MODIFIED:20251103T172115Z
UID:6440-1764288000-1764374399@backeddy.ca
SUMMARY:🍽️ Feature Fridays
DESCRIPTION:30% OFF Chef Mike’s Weekly Feature.\nThe tide turns every Friday – new dish\, same Backeddy soul. Fresh\, local\, and inspired by the current. \nVIEW PUB MENU\nSpecials and discounts are for dine-in only. Takeout not included.
URL:https://backeddy.ca/event/feature-fridays-pub-nov-28/
LOCATION:Backeddy Pub\, 16660 Backeddy Road\, Egmont\, BC
CATEGORIES:Pub Specials
ATTACH;FMTTYPE=image/jpeg:https://backeddy.ca/wp-content/uploads/2025/10/event-pub-feature-fridays.jpg
END:VEVENT
BEGIN:VEVENT
DTSTART;VALUE=DATE:20251127
DTEND;VALUE=DATE:20251128
DTSTAMP:20260423T094054
CREATED:20251024T212248Z
LAST-MODIFIED:20251103T170616Z
UID:6436-1764201600-1764287999@backeddy.ca
SUMMARY:🥣 Chowder Pot Thursdays
DESCRIPTION:$9 Bowls of House Chowder.\nFrom the galley to your belly — a fresh pot made every week at the Backeddy Pub. Creamy\, hearty\, and dockside cozy. Warm up to a bowl and a view of the bay. \nVIEW PUB MENU\nSpecials and discounts are for dine-in only. Takeout not included.
URL:https://backeddy.ca/event/chowder-pot-thursdays-nov27/
LOCATION:Backeddy Pub\, 16660 Backeddy Road\, Egmont\, BC
CATEGORIES:Pub Specials
ATTACH;FMTTYPE=image/jpeg:https://backeddy.ca/wp-content/uploads/2025/10/event-pub-chowder.jpg
END:VEVENT
BEGIN:VEVENT
DTSTART;VALUE=DATE:20251123
DTEND;VALUE=DATE:20251124
DTSTAMP:20260423T094054
CREATED:20251024T212530Z
LAST-MODIFIED:20251103T164937Z
UID:6444-1763856000-1763942399@backeddy.ca
SUMMARY:🐟 Sunday 2-FOR-1 Fish & Chips
DESCRIPTION:Crispy. Golden. Legendary.\nBring a friend – or just eat like one. The best kind of Sunday tradition. \nBeer Battered 6oz Ocean Wise Basa served with house-cut BC Kennebec fries\, tartar sauce\, and a squeeze of lemon. Add a side of apple coleslaw for just $1 to complete the meal. \nVIEW PUB MENU\nSpecials and discounts are for dine-in only. Takeout not included.
URL:https://backeddy.ca/event/sunday-2-for-1-fish-chips-nov23/
LOCATION:Backeddy Pub\, 16660 Backeddy Road\, Egmont\, BC
CATEGORIES:Pub Specials
ATTACH;FMTTYPE=image/jpeg:https://backeddy.ca/wp-content/uploads/2025/10/event-pub-fish-chips.jpg
END:VEVENT
BEGIN:VEVENT
DTSTART;VALUE=DATE:20251121
DTEND;VALUE=DATE:20251122
DTSTAMP:20260423T094054
CREATED:20251024T212344Z
LAST-MODIFIED:20251103T172052Z
UID:6438-1763683200-1763769599@backeddy.ca
SUMMARY:🍽️ Feature Fridays
DESCRIPTION:30% OFF Chef Mike’s Weekly Feature.\nThe tide turns every Friday – new dish\, same Backeddy soul. Fresh\, local\, and inspired by the current. \nVIEW PUB MENU\nSpecials and discounts are for dine-in only. Takeout not included.
URL:https://backeddy.ca/event/feature-fridays-pub-nov-21/
LOCATION:Backeddy Pub\, 16660 Backeddy Road\, Egmont\, BC
CATEGORIES:Pub Specials
ATTACH;FMTTYPE=image/jpeg:https://backeddy.ca/wp-content/uploads/2025/10/event-pub-feature-fridays.jpg
END:VEVENT
BEGIN:VEVENT
DTSTART;VALUE=DATE:20251120
DTEND;VALUE=DATE:20251121
DTSTAMP:20260423T094054
CREATED:20251024T212225Z
LAST-MODIFIED:20251103T170551Z
UID:6434-1763596800-1763683199@backeddy.ca
SUMMARY:🥣 Chowder Pot Thursdays
DESCRIPTION:$9 Bowls of House Chowder.\nFrom the galley to your belly — a fresh pot made every week at the Backeddy Pub. Creamy\, hearty\, and dockside cozy. Warm up to a bowl and a view of the bay. \nVIEW PUB MENU\nSpecials and discounts are for dine-in only. Takeout not included.
URL:https://backeddy.ca/event/chowder-pot-thursdays-nov20/
LOCATION:Backeddy Pub\, 16660 Backeddy Road\, Egmont\, BC
CATEGORIES:Pub Specials
ATTACH;FMTTYPE=image/jpeg:https://backeddy.ca/wp-content/uploads/2025/10/event-pub-chowder.jpg
END:VEVENT
BEGIN:VEVENT
DTSTART;VALUE=DATE:20251116
DTEND;VALUE=DATE:20251117
DTSTAMP:20260423T094054
CREATED:20251024T212455Z
LAST-MODIFIED:20251103T164949Z
UID:6442-1763251200-1763337599@backeddy.ca
SUMMARY:🐟 Sunday 2-FOR-1 Fish & Chips
DESCRIPTION:Crispy. Golden. Legendary.\nBring a friend – or just eat like one. The best kind of Sunday tradition. \nBeer Battered 6oz Ocean Wise Basa served with house-cut BC Kennebec fries\, tartar sauce\, and a squeeze of lemon. Add a side of apple coleslaw for just $1 to complete the meal. \nVIEW PUB MENU\nSpecials and discounts are for dine-in only. Takeout not included.
URL:https://backeddy.ca/event/sunday-2-for-1-fish-chips-nov16/
LOCATION:Backeddy Pub\, 16660 Backeddy Road\, Egmont\, BC
CATEGORIES:Pub Specials
ATTACH;FMTTYPE=image/jpeg:https://backeddy.ca/wp-content/uploads/2025/10/event-pub-fish-chips.jpg
END:VEVENT
BEGIN:VEVENT
DTSTART;VALUE=DATE:20251114
DTEND;VALUE=DATE:20251115
DTSTAMP:20260423T094054
CREATED:20251024T203742Z
LAST-MODIFIED:20251103T172024Z
UID:6429-1763078400-1763164799@backeddy.ca
SUMMARY:🍽️ Feature Fridays
DESCRIPTION:30% OFF Chef Mike’s Weekly Feature.\nThe tide turns every Friday – new dish\, same Backeddy soul. Fresh\, local\, and inspired by the current. \nVIEW PUB MENU\nSpecials and discounts are for dine-in only. Takeout not included.
URL:https://backeddy.ca/event/feature-fridays-pub-nov-14/
LOCATION:Backeddy Pub\, 16660 Backeddy Road\, Egmont\, BC
CATEGORIES:Pub Specials
ATTACH;FMTTYPE=image/jpeg:https://backeddy.ca/wp-content/uploads/2025/10/event-pub-feature-fridays.jpg
END:VEVENT
BEGIN:VEVENT
DTSTART;VALUE=DATE:20251113
DTEND;VALUE=DATE:20251114
DTSTAMP:20260423T094054
CREATED:20251024T203501Z
LAST-MODIFIED:20251103T170519Z
UID:6425-1762992000-1763078399@backeddy.ca
SUMMARY:🥣 Chowder Pot Thursdays
DESCRIPTION:$9 Bowls of House Chowder.\nFrom the galley to your belly — a fresh pot made every week at the Backeddy Pub. Creamy\, hearty\, and dockside cozy. Warm up to a bowl and a view of the bay. \nVIEW PUB MENU\nSpecials and discounts are for dine-in only. Takeout not included.
URL:https://backeddy.ca/event/chowder-pot-thursdays-nov13/
LOCATION:Backeddy Pub\, 16660 Backeddy Road\, Egmont\, BC
CATEGORIES:Pub Specials
ATTACH;FMTTYPE=image/jpeg:https://backeddy.ca/wp-content/uploads/2025/10/event-pub-chowder.jpg
END:VEVENT
END:VCALENDAR