BEGIN:VCALENDAR
VERSION:2.0
PRODID:-//Backeddy Resort &amp; Marina - ECPv6.15.20//NONSGML v1.0//EN
CALSCALE:GREGORIAN
METHOD:PUBLISH
X-WR-CALNAME:Backeddy Resort &amp; Marina
X-ORIGINAL-URL:https://backeddy.ca
X-WR-CALDESC:Events for Backeddy Resort &amp; Marina
REFRESH-INTERVAL;VALUE=DURATION:PT1H
X-Robots-Tag:noindex
X-PUBLISHED-TTL:PT1H
BEGIN:VTIMEZONE
TZID:America/Vancouver
BEGIN:DAYLIGHT
TZOFFSETFROM:-0800
TZOFFSETTO:-0700
TZNAME:PDT
DTSTART:20250309T100000
END:DAYLIGHT
BEGIN:STANDARD
TZOFFSETFROM:-0700
TZOFFSETTO:-0800
TZNAME:PST
DTSTART:20251102T090000
END:STANDARD
BEGIN:DAYLIGHT
TZOFFSETFROM:-0800
TZOFFSETTO:-0700
TZNAME:PDT
DTSTART:20260308T100000
END:DAYLIGHT
BEGIN:STANDARD
TZOFFSETFROM:-0700
TZOFFSETTO:-0800
TZNAME:PST
DTSTART:20261101T090000
END:STANDARD
BEGIN:DAYLIGHT
TZOFFSETFROM:-0800
TZOFFSETTO:-0700
TZNAME:PDT
DTSTART:20270314T100000
END:DAYLIGHT
BEGIN:STANDARD
TZOFFSETFROM:-0700
TZOFFSETTO:-0800
TZNAME:PST
DTSTART:20271107T090000
END:STANDARD
END:VTIMEZONE
BEGIN:VEVENT
DTSTART;VALUE=DATE:20260213
DTEND;VALUE=DATE:20260223
DTSTAMP:20260425T051728
CREATED:20260114T201422Z
LAST-MODIFIED:20260203T193641Z
UID:6827-1770940800-1771804799@backeddy.ca
SUMMARY:❤️ February Romance Package
DESCRIPTION:Romance isn’t just for Valentine’s Day…\nand because lovebirds like to procrastinate\, we’ve stretched our special package all the way to Feb 19th–22nd. And yes… Feb 13 & 14 are officially sold out. Your romance package welcomes you with a bottle of wine and a handcrafted cheese platter waiting in your room – an effortless way to set the mood for a cozy weekend together. In the evening\, wander down to the Backeddy Gastro Pub on Friday or Saturday night for your included $100 dining gift card. \nOn your first morning with us\, stop by reception to pick up a delicious breakfast bundle featuring a breakfast sandwich\, fresh fruit\, and juice – an easy start to a day of exploring\, relaxing\, or simply enjoying each other’s company. Celebrate love where the ocean meets the wild coast. Your February romance weekend awaits. \nBOOK NOW\nOffer not eligible to combine with other packages or promotions. 
URL:https://backeddy.ca/event/valentines-day-2026/
LOCATION:Backeddy Resort
CATEGORIES:Accommodation Getaways & Specials,Seasonal & Special Events
ATTACH;FMTTYPE=image/png:https://backeddy.ca/wp-content/uploads/2026/01/event-romancepackage.png
END:VEVENT
END:VCALENDAR