BEGIN:VCALENDAR
VERSION:2.0
PRODID:-//Backeddy Resort &amp; Marina - ECPv6.15.20//NONSGML v1.0//EN
CALSCALE:GREGORIAN
METHOD:PUBLISH
X-ORIGINAL-URL:https://backeddy.ca
X-WR-CALDESC:Events for Backeddy Resort &amp; Marina
REFRESH-INTERVAL;VALUE=DURATION:PT1H
X-Robots-Tag:noindex
X-PUBLISHED-TTL:PT1H
BEGIN:VTIMEZONE
TZID:America/Vancouver
BEGIN:DAYLIGHT
TZOFFSETFROM:-0800
TZOFFSETTO:-0700
TZNAME:PDT
DTSTART:20240310T100000
END:DAYLIGHT
BEGIN:STANDARD
TZOFFSETFROM:-0700
TZOFFSETTO:-0800
TZNAME:PST
DTSTART:20241103T090000
END:STANDARD
BEGIN:DAYLIGHT
TZOFFSETFROM:-0800
TZOFFSETTO:-0700
TZNAME:PDT
DTSTART:20250309T100000
END:DAYLIGHT
BEGIN:STANDARD
TZOFFSETFROM:-0700
TZOFFSETTO:-0800
TZNAME:PST
DTSTART:20251102T090000
END:STANDARD
BEGIN:DAYLIGHT
TZOFFSETFROM:-0800
TZOFFSETTO:-0700
TZNAME:PDT
DTSTART:20260308T100000
END:DAYLIGHT
BEGIN:STANDARD
TZOFFSETFROM:-0700
TZOFFSETTO:-0800
TZNAME:PST
DTSTART:20261101T090000
END:STANDARD
END:VTIMEZONE
BEGIN:VEVENT
DTSTART;VALUE=DATE:20251101
DTEND;VALUE=DATE:20251222
DTSTAMP:20260423T181024
CREATED:20251016T183650Z
LAST-MODIFIED:20251024T163618Z
UID:6099-1761955200-1766361599@backeddy.ca
SUMMARY:🍺 Local’s Staycation + Sip & Stay
DESCRIPTION:Our popular Staycation promotion is back!\n \nBook a 2-night stay anytime Thursday–Sunday\, from November 1st–December 21st in a cabin & receive a $50 ‘Sip & Stay’ credit to the Backeddy Pub. Escape to Egmont and cozy up by the fire\, hike the Skookumchuk rapids\, and when hunger hits\, visit the Pub for a hearty dish\, craft beer\, or mocktails. \nBOOK NOW\nThursday–Sunday only. 2-night minimum stay applies. Offer not eligible to combine with additional packages and promotions. Discount applies to cabin bookings only. Long weekends & holidays excluded.
URL:https://backeddy.ca/event/locals-staycation-sip-stay-2025/
LOCATION:Backeddy Resort
CATEGORIES:Accommodation Getaways & Specials
ATTACH;FMTTYPE=image/png:https://backeddy.ca/wp-content/uploads/2025/10/event-sip-stay.png
END:VEVENT
BEGIN:VEVENT
DTSTART;VALUE=DATE:20251204
DTEND;VALUE=DATE:20251205
DTSTAMP:20260423T181024
CREATED:20251103T170409Z
LAST-MODIFIED:20251103T170409Z
UID:6557-1764806400-1764892799@backeddy.ca
SUMMARY:🥣 Chowder Pot Thursdays
DESCRIPTION:$9 Bowls of House Chowder.\nFrom the galley to your belly — a fresh pot made every week at the Backeddy Pub. Creamy\, hearty\, and dockside cozy. Warm up to a bowl and a view of the bay. \nVIEW PUB MENU\nSpecials and discounts are for dine-in only. Takeout not included.
URL:https://backeddy.ca/event/chowder-pot-thursdays-dec4/
LOCATION:Backeddy Pub\, 16660 Backeddy Road\, Egmont\, BC
CATEGORIES:Pub Specials
ATTACH;FMTTYPE=image/jpeg:https://backeddy.ca/wp-content/uploads/2025/10/event-pub-chowder.jpg
END:VEVENT
BEGIN:VEVENT
DTSTART;TZID=America/Vancouver:20251206T170000
DTEND;TZID=America/Vancouver:20251206T200000
DTSTAMP:20260423T181024
CREATED:20251120T200215Z
LAST-MODIFIED:20251120T200215Z
UID:6661-1765040400-1765051200@backeddy.ca
SUMMARY:🎵  Joe Stanton
DESCRIPTION:An Evening of Music with Joe Stanton.\nCelebrate the cozy fall season at the Backeddy Pub with Joe Stanton\, a Sunshine Coast singer-songwriter and fingerstyle guitarist. Enjoy soulful folk\, country\, and blues as Joe delivers heartfelt lyrics and intricate guitar with over 30 years of experience performing across Canada\, the U.S.\, and Europe. More info: www.joestanton.com \nSavor locally inspired food\, craft beers\, and house cocktails from the Backeddy Pub menu while enjoying a memorable night of live acoustic music.
URL:https://backeddy.ca/event/live-music-joe-stanton-dec6-2025/
LOCATION:Backeddy Pub\, 16660 Backeddy Road\, Egmont\, BC
CATEGORIES:Live Music
ATTACH;FMTTYPE=image/jpeg:https://backeddy.ca/wp-content/uploads/2025/11/event-music-joe-stanton.jpg
END:VEVENT
BEGIN:VEVENT
DTSTART;VALUE=DATE:20251207
DTEND;VALUE=DATE:20251208
DTSTAMP:20260423T181024
CREATED:20251103T165421Z
LAST-MODIFIED:20251103T165447Z
UID:6523-1765065600-1765151999@backeddy.ca
SUMMARY:🐟 Sunday 2-FOR-1 Fish & Chips
DESCRIPTION:Crispy. Golden. Legendary.\nBring a friend – or just eat like one. The best kind of Sunday tradition. \nBeer Battered 6oz Ocean Wise Basa served with house-cut BC Kennebec fries\, tartar sauce\, and a squeeze of lemon. Add a side of apple coleslaw for just $1 to complete the meal. \nVIEW PUB MENU\nSpecials and discounts are for dine-in only. Takeout not included.
URL:https://backeddy.ca/event/sunday-2-for-1-fish-chips-dec7/
LOCATION:Backeddy Pub\, 16660 Backeddy Road\, Egmont\, BC
CATEGORIES:Pub Specials
ATTACH;FMTTYPE=image/jpeg:https://backeddy.ca/wp-content/uploads/2025/10/event-pub-fish-chips.jpg
END:VEVENT
BEGIN:VEVENT
DTSTART;VALUE=DATE:20251211
DTEND;VALUE=DATE:20251212
DTSTAMP:20260423T181024
CREATED:20251103T170754Z
LAST-MODIFIED:20251103T170754Z
UID:6564-1765411200-1765497599@backeddy.ca
SUMMARY:🥣 Chowder Pot Thursdays
DESCRIPTION:$9 Bowls of House Chowder.\nFrom the galley to your belly — a fresh pot made every week at the Backeddy Pub. Creamy\, hearty\, and dockside cozy. Warm up to a bowl and a view of the bay. \nVIEW PUB MENU\nSpecials and discounts are for dine-in only. Takeout not included.
URL:https://backeddy.ca/event/https-backeddy-ca-event-chowder-pot-thursdays-dec11/
LOCATION:Backeddy Pub\, 16660 Backeddy Road\, Egmont\, BC
CATEGORIES:Pub Specials
ATTACH;FMTTYPE=image/jpeg:https://backeddy.ca/wp-content/uploads/2025/10/event-pub-chowder.jpg
END:VEVENT
BEGIN:VEVENT
DTSTART;TZID=America/Vancouver:20251213T170000
DTEND;TZID=America/Vancouver:20251213T200000
DTSTAMP:20260423T181024
CREATED:20251120T200342Z
LAST-MODIFIED:20251120T200342Z
UID:6664-1765645200-1765656000@backeddy.ca
SUMMARY:🎵  Joe Stanton
DESCRIPTION:An Evening of Music with Joe Stanton.\nCelebrate the cozy fall season at the Backeddy Pub with Joe Stanton\, a Sunshine Coast singer-songwriter and fingerstyle guitarist. Enjoy soulful folk\, country\, and blues as Joe delivers heartfelt lyrics and intricate guitar with over 30 years of experience performing across Canada\, the U.S.\, and Europe. More info: www.joestanton.com \nSavor locally inspired food\, craft beers\, and house cocktails from the Backeddy Pub menu while enjoying a memorable night of live acoustic music.
URL:https://backeddy.ca/event/live-music-joe-stanton-dec13-2025/
LOCATION:Backeddy Pub\, 16660 Backeddy Road\, Egmont\, BC
CATEGORIES:Live Music
ATTACH;FMTTYPE=image/jpeg:https://backeddy.ca/wp-content/uploads/2025/11/event-music-joe-stanton.jpg
END:VEVENT
BEGIN:VEVENT
DTSTART;VALUE=DATE:20251214
DTEND;VALUE=DATE:20251215
DTSTAMP:20260423T181024
CREATED:20251103T165522Z
LAST-MODIFIED:20251103T165522Z
UID:6525-1765670400-1765756799@backeddy.ca
SUMMARY:🐟 Sunday 2-FOR-1 Fish & Chips
DESCRIPTION:Crispy. Golden. Legendary.\nBring a friend – or just eat like one. The best kind of Sunday tradition. \nBeer Battered 6oz Ocean Wise Basa served with house-cut BC Kennebec fries\, tartar sauce\, and a squeeze of lemon. Add a side of apple coleslaw for just $1 to complete the meal. \nVIEW PUB MENU\nSpecials and discounts are for dine-in only. Takeout not included.
URL:https://backeddy.ca/event/sunday-2-for-1-fish-chips-dec14/
LOCATION:Backeddy Pub\, 16660 Backeddy Road\, Egmont\, BC
CATEGORIES:Pub Specials
ATTACH;FMTTYPE=image/jpeg:https://backeddy.ca/wp-content/uploads/2025/10/event-pub-fish-chips.jpg
END:VEVENT
BEGIN:VEVENT
DTSTART;VALUE=DATE:20251218
DTEND;VALUE=DATE:20251219
DTSTAMP:20260423T181024
CREATED:20251103T170829Z
LAST-MODIFIED:20251103T170829Z
UID:6567-1766016000-1766102399@backeddy.ca
SUMMARY:🥣 Chowder Pot Thursdays
DESCRIPTION:$9 Bowls of House Chowder.\nFrom the galley to your belly — a fresh pot made every week at the Backeddy Pub. Creamy\, hearty\, and dockside cozy. Warm up to a bowl and a view of the bay. \nVIEW PUB MENU\nSpecials and discounts are for dine-in only. Takeout not included.
URL:https://backeddy.ca/event/https-backeddy-ca-event-chowder-pot-thursdays-dec18/
LOCATION:Backeddy Pub\, 16660 Backeddy Road\, Egmont\, BC
CATEGORIES:Pub Specials
ATTACH;FMTTYPE=image/jpeg:https://backeddy.ca/wp-content/uploads/2025/10/event-pub-chowder.jpg
END:VEVENT
BEGIN:VEVENT
DTSTART;TZID=America/Vancouver:20251220T170000
DTEND;TZID=America/Vancouver:20251220T200000
DTSTAMP:20260423T181024
CREATED:20251120T200433Z
LAST-MODIFIED:20251120T200433Z
UID:6667-1766250000-1766260800@backeddy.ca
SUMMARY:🎵  Joe Stanton
DESCRIPTION:An Evening of Music with Joe Stanton.\nCelebrate the cozy fall season at the Backeddy Pub with Joe Stanton\, a Sunshine Coast singer-songwriter and fingerstyle guitarist. Enjoy soulful folk\, country\, and blues as Joe delivers heartfelt lyrics and intricate guitar with over 30 years of experience performing across Canada\, the U.S.\, and Europe. More info: www.joestanton.com \nSavor locally inspired food\, craft beers\, and house cocktails from the Backeddy Pub menu while enjoying a memorable night of live acoustic music.
URL:https://backeddy.ca/event/live-music-joe-stanton-dec20-2025/
LOCATION:Backeddy Pub\, 16660 Backeddy Road\, Egmont\, BC
CATEGORIES:Live Music
ATTACH;FMTTYPE=image/jpeg:https://backeddy.ca/wp-content/uploads/2025/11/event-music-joe-stanton.jpg
END:VEVENT
BEGIN:VEVENT
DTSTART;VALUE=DATE:20251221
DTEND;VALUE=DATE:20251222
DTSTAMP:20260423T181024
CREATED:20251103T165600Z
LAST-MODIFIED:20251103T165600Z
UID:6528-1766275200-1766361599@backeddy.ca
SUMMARY:🐟 Sunday 2-FOR-1 Fish & Chips
DESCRIPTION:Crispy. Golden. Legendary.\nBring a friend – or just eat like one. The best kind of Sunday tradition. \nBeer Battered 6oz Ocean Wise Basa served with house-cut BC Kennebec fries\, tartar sauce\, and a squeeze of lemon. Add a side of apple coleslaw for just $1 to complete the meal. \nVIEW PUB MENU\nSpecials and discounts are for dine-in only. Takeout not included.
URL:https://backeddy.ca/event/sunday-2-for-1-fish-chips-dec21/
LOCATION:Backeddy Pub\, 16660 Backeddy Road\, Egmont\, BC
CATEGORIES:Pub Specials
ATTACH;FMTTYPE=image/jpeg:https://backeddy.ca/wp-content/uploads/2025/10/event-pub-fish-chips.jpg
END:VEVENT
BEGIN:VEVENT
DTSTART;TZID=America/Vancouver:20251227T170000
DTEND;TZID=America/Vancouver:20251227T200000
DTSTAMP:20260423T181024
CREATED:20251120T200508Z
LAST-MODIFIED:20251120T200508Z
UID:6670-1766854800-1766865600@backeddy.ca
SUMMARY:🎵  Joe Stanton
DESCRIPTION:An Evening of Music with Joe Stanton.\nCelebrate the cozy fall season at the Backeddy Pub with Joe Stanton\, a Sunshine Coast singer-songwriter and fingerstyle guitarist. Enjoy soulful folk\, country\, and blues as Joe delivers heartfelt lyrics and intricate guitar with over 30 years of experience performing across Canada\, the U.S.\, and Europe. More info: www.joestanton.com \nSavor locally inspired food\, craft beers\, and house cocktails from the Backeddy Pub menu while enjoying a memorable night of live acoustic music.
URL:https://backeddy.ca/event/live-music-joe-stanton-dec27-2025/
LOCATION:Backeddy Pub\, 16660 Backeddy Road\, Egmont\, BC
CATEGORIES:Live Music
ATTACH;FMTTYPE=image/jpeg:https://backeddy.ca/wp-content/uploads/2025/11/event-music-joe-stanton.jpg
END:VEVENT
BEGIN:VEVENT
DTSTART;VALUE=DATE:20251228
DTEND;VALUE=DATE:20251229
DTSTAMP:20260423T181024
CREATED:20251103T165639Z
LAST-MODIFIED:20251103T165639Z
UID:6531-1766880000-1766966399@backeddy.ca
SUMMARY:🐟 Sunday 2-FOR-1 Fish & Chips
DESCRIPTION:Crispy. Golden. Legendary.\nBring a friend – or just eat like one. The best kind of Sunday tradition. \nBeer Battered 6oz Ocean Wise Basa served with house-cut BC Kennebec fries\, tartar sauce\, and a squeeze of lemon. Add a side of apple coleslaw for just $1 to complete the meal. \nVIEW PUB MENU\nSpecials and discounts are for dine-in only. Takeout not included.
URL:https://backeddy.ca/event/sunday-2-for-1-fish-chips-dec28/
LOCATION:Backeddy Pub\, 16660 Backeddy Road\, Egmont\, BC
CATEGORIES:Pub Specials
ATTACH;FMTTYPE=image/jpeg:https://backeddy.ca/wp-content/uploads/2025/10/event-pub-fish-chips.jpg
END:VEVENT
END:VCALENDAR