BEGIN:VCALENDAR
VERSION:2.0
PRODID:-//Backeddy Resort &amp; Marina - ECPv6.15.20//NONSGML v1.0//EN
CALSCALE:GREGORIAN
METHOD:PUBLISH
X-WR-CALNAME:Backeddy Resort &amp; Marina
X-ORIGINAL-URL:https://backeddy.ca
X-WR-CALDESC:Events for Backeddy Resort &amp; Marina
REFRESH-INTERVAL;VALUE=DURATION:PT1H
X-Robots-Tag:noindex
X-PUBLISHED-TTL:PT1H
BEGIN:VTIMEZONE
TZID:America/Vancouver
BEGIN:DAYLIGHT
TZOFFSETFROM:-0800
TZOFFSETTO:-0700
TZNAME:PDT
DTSTART:20240310T100000
END:DAYLIGHT
BEGIN:STANDARD
TZOFFSETFROM:-0700
TZOFFSETTO:-0800
TZNAME:PST
DTSTART:20241103T090000
END:STANDARD
BEGIN:DAYLIGHT
TZOFFSETFROM:-0800
TZOFFSETTO:-0700
TZNAME:PDT
DTSTART:20250309T100000
END:DAYLIGHT
BEGIN:STANDARD
TZOFFSETFROM:-0700
TZOFFSETTO:-0800
TZNAME:PST
DTSTART:20251102T090000
END:STANDARD
BEGIN:DAYLIGHT
TZOFFSETFROM:-0800
TZOFFSETTO:-0700
TZNAME:PDT
DTSTART:20260308T100000
END:DAYLIGHT
BEGIN:STANDARD
TZOFFSETFROM:-0700
TZOFFSETTO:-0800
TZNAME:PST
DTSTART:20261101T090000
END:STANDARD
END:VTIMEZONE
BEGIN:VEVENT
DTSTART;VALUE=DATE:20251101
DTEND;VALUE=DATE:20260101
DTSTAMP:20260423T214813
CREATED:20251024T160152Z
LAST-MODIFIED:20251108T011206Z
UID:6375-1761955200-1767225599@backeddy.ca
SUMMARY:🎄 Holiday Parties & Small Group Gatherings
DESCRIPTION:’Tis the season to gather your crew for a holiday meal at Backeddy!\nFor just $50 per person\, treat your friends\, family\, or colleagues to a festive feast\, right on the edge of the sparkling Sechelt Inlet. Want to make it a full-on holiday escape and give the gift of relaxation everyone deserves. Add cozy accommodations for only $100 per person and allow your guests to wake up to oceanfront views that’ll make them forget the word “deadline.” Whether it’s a small office party\, a family reunion\, or a festive catch-up with friends\, our intimate gatherings are perfect for groups of 10–50. Bring everyone closer with crackling fire pits\, twinkling lights\, and oceanfront charm. \nA Holiday Feast:\nFor $50 per person\, our Christmas party package is a holiday gift in itself\, served up in the cozy\, waterfront vibes of the Backeddy Pub with 600 feet of private shoreline as your backdrop. Here’s what’s on the menu: \n\nRoast Turkey: Juicy\, golden\, and carved to perfection—classic holiday comfort.\nCreamy Mashed Potatoes: Silky\, buttery\, and begging for seconds.\nYorkshire Pudding: Fluffy\, warm\, and the perfect gravy-soaker.\nHouse Salad: Fresh greens with a zesty house dressing to balance the indulgence.\nArtisan Bread: For the table to share.\nHomemade Dessert: A sweet surprise crafted by our chefs to cap off the night.\nSeasonal Spiced Mulled Wine: Warm\, aromatic\, and spiked with holiday magic—cheers to that!\n\n[vc_separator type=’transparent’ position=’center’ color=” thickness=” up=’10’ down=”] \nWhy rush home? \nFor just $100 per person (single or double occupancy)\, extend the magic with a night in our vintage cabins or modern oceanfront rooms: \n\nVintage Cabins: Large or small cozy A-frame hideaways with knotty pine walls\, kitchenettes\, and private porches—perfect for snuggling up post-party.\nModern Oceanfront Rooms: Sleek\, stylish\, and right on the water’s edge\, with free Wi-Fi\, mini-fridges\, and views that scream “holiday card material.”\n\nWake up to waves lapping at your doorstep\, sip coffee as herons glide by\, and maybe sneak in a morning hike to the Skookumchuck Rapids—just minutes away. Let Backeddy Resort & Marina make your Holiday gathering the talk of the season. \nINQUIRE NOW\nMinimum order 10. Blackout dates: Christmas Eve\, Christmas Day\, Boxing Day\, New Year’s Eve\, and New Year’s Day.
URL:https://backeddy.ca/event/holiday-parties-small-group-gatherings/
LOCATION:Backeddy Resort
CATEGORIES:Accommodation Getaways & Specials,Seasonal & Special Events
ATTACH;FMTTYPE=image/png:https://backeddy.ca/wp-content/uploads/2025/11/event-holiday-party.png
END:VEVENT
END:VCALENDAR