BEGIN:VCALENDAR
VERSION:2.0
PRODID:-//Backeddy Resort &amp; Marina - ECPv6.15.20//NONSGML v1.0//EN
CALSCALE:GREGORIAN
METHOD:PUBLISH
X-ORIGINAL-URL:https://backeddy.ca
X-WR-CALDESC:Events for Backeddy Resort &amp; Marina
REFRESH-INTERVAL;VALUE=DURATION:PT1H
X-Robots-Tag:noindex
X-PUBLISHED-TTL:PT1H
BEGIN:VTIMEZONE
TZID:America/Vancouver
BEGIN:DAYLIGHT
TZOFFSETFROM:-0800
TZOFFSETTO:-0700
TZNAME:PDT
DTSTART:20250309T100000
END:DAYLIGHT
BEGIN:STANDARD
TZOFFSETFROM:-0700
TZOFFSETTO:-0800
TZNAME:PST
DTSTART:20251102T090000
END:STANDARD
BEGIN:DAYLIGHT
TZOFFSETFROM:-0800
TZOFFSETTO:-0700
TZNAME:PDT
DTSTART:20260308T100000
END:DAYLIGHT
BEGIN:STANDARD
TZOFFSETFROM:-0700
TZOFFSETTO:-0800
TZNAME:PST
DTSTART:20261101T090000
END:STANDARD
BEGIN:DAYLIGHT
TZOFFSETFROM:-0800
TZOFFSETTO:-0700
TZNAME:PDT
DTSTART:20270314T100000
END:DAYLIGHT
BEGIN:STANDARD
TZOFFSETFROM:-0700
TZOFFSETTO:-0800
TZNAME:PST
DTSTART:20271107T090000
END:STANDARD
END:VTIMEZONE
BEGIN:VEVENT
DTSTART;TZID=America/Vancouver:20260328T170000
DTEND;TZID=America/Vancouver:20260328T200000
DTSTAMP:20260423T165756
CREATED:20260219T181003Z
LAST-MODIFIED:20260219T181321Z
UID:6973-1774717200-1774728000@backeddy.ca
SUMMARY:🎵 Rebecca Lorna & Jeremy Forester
DESCRIPTION:Join us for an Evening of live Folk & Country music.\nJoin us Saturday night at the Backeddy Pub with Jeremy Forester and Rebecca Lorna\, a dynamic folk-country duo bringing rich harmonies\, heartfelt storytelling\, and lively guitar to the stage. From original songs to inspired covers\, their performance offers a memorable evening of live music. Learn more: www.jeremyforester.com / www.rebeccalorna.com
URL:https://backeddy.ca/event/live-music-rebecca-jeremy-mar28-2026/
LOCATION:Backeddy Pub\, 16660 Backeddy Road\, Egmont\, BC
CATEGORIES:Live Music
ATTACH;FMTTYPE=image/jpeg:https://backeddy.ca/wp-content/uploads/2025/08/event-music-rebecca-jeremy.jpg
END:VEVENT
END:VCALENDAR