BEGIN:VCALENDAR
VERSION:2.0
PRODID:-//Backeddy Resort &amp; Marina - ECPv6.15.20//NONSGML v1.0//EN
CALSCALE:GREGORIAN
METHOD:PUBLISH
X-WR-CALNAME:Backeddy Resort &amp; Marina
X-ORIGINAL-URL:https://backeddy.ca
X-WR-CALDESC:Events for Backeddy Resort &amp; Marina
REFRESH-INTERVAL;VALUE=DURATION:PT1H
X-Robots-Tag:noindex
X-PUBLISHED-TTL:PT1H
BEGIN:VTIMEZONE
TZID:America/Vancouver
BEGIN:DAYLIGHT
TZOFFSETFROM:-0800
TZOFFSETTO:-0700
TZNAME:PDT
DTSTART:20250309T100000
END:DAYLIGHT
BEGIN:STANDARD
TZOFFSETFROM:-0700
TZOFFSETTO:-0800
TZNAME:PST
DTSTART:20251102T090000
END:STANDARD
BEGIN:DAYLIGHT
TZOFFSETFROM:-0800
TZOFFSETTO:-0700
TZNAME:PDT
DTSTART:20260308T100000
END:DAYLIGHT
BEGIN:STANDARD
TZOFFSETFROM:-0700
TZOFFSETTO:-0800
TZNAME:PST
DTSTART:20261101T090000
END:STANDARD
BEGIN:DAYLIGHT
TZOFFSETFROM:-0800
TZOFFSETTO:-0700
TZNAME:PDT
DTSTART:20270314T100000
END:DAYLIGHT
BEGIN:STANDARD
TZOFFSETFROM:-0700
TZOFFSETTO:-0800
TZNAME:PST
DTSTART:20271107T090000
END:STANDARD
END:VTIMEZONE
BEGIN:VEVENT
DTSTART;TZID=America/Vancouver:20260425T170000
DTEND;TZID=America/Vancouver:20260425T200000
DTSTAMP:20260423T103159
CREATED:20260408T153647Z
LAST-MODIFIED:20260408T153724Z
UID:7017-1777136400-1777147200@backeddy.ca
SUMMARY:🎵  Joe Stanton
DESCRIPTION:An Evening of Music with Joe Stanton.\nSpend your Saturday night at the Backeddy Pub! Enjoy Joe Stanton’s heartfelt lyrics and soulful acoustic performance\, perfect for a relaxed evening. Don’t forget to try our craft beers\, cocktails\, and locally inspired dishes from the Pub menu. \nLearn more: www.joestanton.com
URL:https://backeddy.ca/event/live-music-joe-stanton-apr25-2026/
LOCATION:Backeddy Pub\, 16660 Backeddy Road\, Egmont\, BC
CATEGORIES:Live Music
ATTACH;FMTTYPE=image/jpeg:https://backeddy.ca/wp-content/uploads/2025/11/event-music-joe-stanton.jpg
END:VEVENT
BEGIN:VEVENT
DTSTART;TZID=America/Vancouver:20260509T170000
DTEND;TZID=America/Vancouver:20260509T200000
DTSTAMP:20260423T103159
CREATED:20260421T150339Z
LAST-MODIFIED:20260421T152136Z
UID:7092-1778346000-1778356800@backeddy.ca
SUMMARY:🎵  Joe Stanton
DESCRIPTION:An Evening of Music with Joe Stanton.\nJoe Stanton is playing live at the Backeddy Pub throughout the month of May on the 9th\, 16th\, and 30th. Blending folk\, country\, and bluegrass with intricate fingerstyle guitar\, his music reflects decades spent playing everywhere from coastal venues to festivals across North America. Settle in for a relaxed night with good music\, food\, and drinks at the Pub. \nLearn more: www.joestanton.com
URL:https://backeddy.ca/event/live-music-joe-stanton-may9-2026/
LOCATION:Backeddy Pub\, 16660 Backeddy Road\, Egmont\, BC
CATEGORIES:Live Music
ATTACH;FMTTYPE=image/jpeg:https://backeddy.ca/wp-content/uploads/2025/11/event-music-joe-stanton.jpg
END:VEVENT
BEGIN:VEVENT
DTSTART;TZID=America/Vancouver:20260516T170000
DTEND;TZID=America/Vancouver:20260516T200000
DTSTAMP:20260423T103159
CREATED:20260421T151206Z
LAST-MODIFIED:20260421T151231Z
UID:7097-1778950800-1778961600@backeddy.ca
SUMMARY:🎵  Joe Stanton
DESCRIPTION:An Evening of Music with Joe Stanton.\nJoe Stanton returns for another night at the Backeddy Pub. Expect a relaxed set of acoustic music – rooted in folk\, country\, and bluegrass\, with a focus on guitar and songwriting. Join us for dinner\, drinks\, and live music at the Backeddy Pub. \nLearn more: www.joestanton.com
URL:https://backeddy.ca/event/live-music-joe-stanton-may16-2026/
LOCATION:Backeddy Pub\, 16660 Backeddy Road\, Egmont\, BC
CATEGORIES:Live Music
ATTACH;FMTTYPE=image/jpeg:https://backeddy.ca/wp-content/uploads/2025/11/event-music-joe-stanton.jpg
END:VEVENT
BEGIN:VEVENT
DTSTART;TZID=America/Vancouver:20260530T170000
DTEND;TZID=America/Vancouver:20260530T200000
DTSTAMP:20260423T103159
CREATED:20260421T151802Z
LAST-MODIFIED:20260421T151948Z
UID:7105-1780160400-1780171200@backeddy.ca
SUMMARY:🎵  Joe Stanton
DESCRIPTION:An Evening of Music with Joe Stanton.\nJoe Stanton wraps up the month of May at the Backeddy Pub with a laid-back acoustic set rooted in folk and country\, with his signature fingerstyle approach. Food and drinks available from the Pub kitchen and bar until 8pm. \nLearn more: www.joestanton.com
URL:https://backeddy.ca/event/live-music-joe-stanton-may30-2026/
LOCATION:Backeddy Pub\, 16660 Backeddy Road\, Egmont\, BC
CATEGORIES:Live Music
ATTACH;FMTTYPE=image/jpeg:https://backeddy.ca/wp-content/uploads/2025/11/event-music-joe-stanton.jpg
END:VEVENT
END:VCALENDAR