BEGIN:VCALENDAR
VERSION:2.0
PRODID:-//Backeddy Resort &amp; Marina - ECPv6.15.20//NONSGML v1.0//EN
CALSCALE:GREGORIAN
METHOD:PUBLISH
X-WR-CALNAME:Backeddy Resort &amp; Marina
X-ORIGINAL-URL:https://backeddy.ca
X-WR-CALDESC:Events for Backeddy Resort &amp; Marina
REFRESH-INTERVAL;VALUE=DURATION:PT1H
X-Robots-Tag:noindex
X-PUBLISHED-TTL:PT1H
BEGIN:VTIMEZONE
TZID:America/Vancouver
BEGIN:DAYLIGHT
TZOFFSETFROM:-0800
TZOFFSETTO:-0700
TZNAME:PDT
DTSTART:20250309T100000
END:DAYLIGHT
BEGIN:STANDARD
TZOFFSETFROM:-0700
TZOFFSETTO:-0800
TZNAME:PST
DTSTART:20251102T090000
END:STANDARD
BEGIN:DAYLIGHT
TZOFFSETFROM:-0800
TZOFFSETTO:-0700
TZNAME:PDT
DTSTART:20260308T100000
END:DAYLIGHT
BEGIN:STANDARD
TZOFFSETFROM:-0700
TZOFFSETTO:-0800
TZNAME:PST
DTSTART:20261101T090000
END:STANDARD
BEGIN:DAYLIGHT
TZOFFSETFROM:-0800
TZOFFSETTO:-0700
TZNAME:PDT
DTSTART:20270314T100000
END:DAYLIGHT
BEGIN:STANDARD
TZOFFSETFROM:-0700
TZOFFSETTO:-0800
TZNAME:PST
DTSTART:20271107T090000
END:STANDARD
END:VTIMEZONE
BEGIN:VEVENT
DTSTART;VALUE=DATE:20260301
DTEND;VALUE=DATE:20260401
DTSTAMP:20260423T120219
CREATED:20260202T193234Z
LAST-MODIFIED:20260203T194004Z
UID:6901-1772323200-1775001599@backeddy.ca
SUMMARY:🐾 Dockside Dog Days
DESCRIPTION:10% of every booking goes to the Sunshine Coast BC SPCA.\nMarch is all about pets taking their humans on vacation! Stay at the Backeddy this March and help support local rescue animals. Other ways to contribute: \n\nRound up your reservation to contribute even more!\nHelp us reach the Backeddy goal 125 nights this March and we will top up our donation $2000\n\nBOOK NOW\nImportant note: Offer not eligible to combine with other packages or promotions. 
URL:https://backeddy.ca/event/2026-dockside-dog-days/
LOCATION:Backeddy Resort
CATEGORIES:Accommodation Getaways & Specials
ATTACH;FMTTYPE=image/jpeg:https://backeddy.ca/wp-content/uploads/2026/02/event-dog.jpg
END:VEVENT
END:VCALENDAR