BEGIN:VCALENDAR
VERSION:2.0
PRODID:-//Backeddy Resort &amp; Marina - ECPv6.15.20//NONSGML v1.0//EN
CALSCALE:GREGORIAN
METHOD:PUBLISH
X-WR-CALNAME:Backeddy Resort &amp; Marina
X-ORIGINAL-URL:https://backeddy.ca
X-WR-CALDESC:Events for Backeddy Resort &amp; Marina
REFRESH-INTERVAL;VALUE=DURATION:PT1H
X-Robots-Tag:noindex
X-PUBLISHED-TTL:PT1H
BEGIN:VTIMEZONE
TZID:America/Vancouver
BEGIN:DAYLIGHT
TZOFFSETFROM:-0800
TZOFFSETTO:-0700
TZNAME:PDT
DTSTART:20250309T100000
END:DAYLIGHT
BEGIN:STANDARD
TZOFFSETFROM:-0700
TZOFFSETTO:-0800
TZNAME:PST
DTSTART:20251102T090000
END:STANDARD
BEGIN:DAYLIGHT
TZOFFSETFROM:-0800
TZOFFSETTO:-0700
TZNAME:PDT
DTSTART:20260308T100000
END:DAYLIGHT
BEGIN:STANDARD
TZOFFSETFROM:-0700
TZOFFSETTO:-0800
TZNAME:PST
DTSTART:20261101T090000
END:STANDARD
BEGIN:DAYLIGHT
TZOFFSETFROM:-0800
TZOFFSETTO:-0700
TZNAME:PDT
DTSTART:20270314T100000
END:DAYLIGHT
BEGIN:STANDARD
TZOFFSETFROM:-0700
TZOFFSETTO:-0800
TZNAME:PST
DTSTART:20271107T090000
END:STANDARD
END:VTIMEZONE
BEGIN:VEVENT
DTSTART;VALUE=DATE:20260306
DTEND;VALUE=DATE:20260309
DTSTAMP:20260423T153935
CREATED:20260209T215825Z
LAST-MODIFIED:20260302T194810Z
UID:6924-1772755200-1773014399@backeddy.ca
SUMMARY:🍽️ Sunshine Coast Flavour Festival (Mar 6-8th)
DESCRIPTION:3-Course Prix-Fixe Menu at The Backeddy\nEach dish was thoughtfully crafted to champion local Sunshine Coast businesses. \nVIEW MENU\nHours of Operation during Flavour Festival:\nMarch 6th–8th (Fri–Sun): 12–8 pm\nMarch 12th–15th (Thu–Sun): 12–8 pm\nWalk-ins only\, no advanced reservations
URL:https://backeddy.ca/event/sunshine-coast-flavour-festival-2026/
LOCATION:Backeddy Pub\, 16660 Backeddy Road\, Egmont\, BC
CATEGORIES:Pub Specials
ATTACH;FMTTYPE=image/png:https://backeddy.ca/wp-content/uploads/2026/02/event-pub-flavour-festival-menu.png
END:VEVENT
BEGIN:VEVENT
DTSTART;VALUE=DATE:20260312
DTEND;VALUE=DATE:20260316
DTSTAMP:20260423T153935
CREATED:20260209T230042Z
LAST-MODIFIED:20260302T194759Z
UID:6944-1773273600-1773619199@backeddy.ca
SUMMARY:🍽️ Sunshine Coast Flavour Festival (Mar 12-15th)
DESCRIPTION:3-Course Prix-Fixe Menu at The Backeddy\nEach dish was thoughtfully crafted to champion local Sunshine Coast businesses. \nVIEW MENU\nHours of Operation during Flavour Festival:\nMarch 6th–8th (Fri–Sun): 12–8 pm\nMarch 12th–15th (Thu–Sun): 12–8 pm\nWalk-ins only\, no advanced reservations
URL:https://backeddy.ca/event/sunshine-coast-flavour-festival-2026-1/
LOCATION:Backeddy Pub\, 16660 Backeddy Road\, Egmont\, BC
CATEGORIES:Pub Specials
ATTACH;FMTTYPE=image/png:https://backeddy.ca/wp-content/uploads/2026/02/event-pub-flavour-festival-menu.png
END:VEVENT
END:VCALENDAR