BEGIN:VCALENDAR
VERSION:2.0
PRODID:-//Backeddy Resort &amp; Marina - ECPv6.15.20//NONSGML v1.0//EN
CALSCALE:GREGORIAN
METHOD:PUBLISH
X-WR-CALNAME:Backeddy Resort &amp; Marina
X-ORIGINAL-URL:https://backeddy.ca
X-WR-CALDESC:Events for Backeddy Resort &amp; Marina
REFRESH-INTERVAL;VALUE=DURATION:PT1H
X-Robots-Tag:noindex
X-PUBLISHED-TTL:PT1H
BEGIN:VTIMEZONE
TZID:America/Vancouver
BEGIN:DAYLIGHT
TZOFFSETFROM:-0800
TZOFFSETTO:-0700
TZNAME:PDT
DTSTART:20250309T100000
END:DAYLIGHT
BEGIN:STANDARD
TZOFFSETFROM:-0700
TZOFFSETTO:-0800
TZNAME:PST
DTSTART:20251102T090000
END:STANDARD
BEGIN:DAYLIGHT
TZOFFSETFROM:-0800
TZOFFSETTO:-0700
TZNAME:PDT
DTSTART:20260308T100000
END:DAYLIGHT
BEGIN:STANDARD
TZOFFSETFROM:-0700
TZOFFSETTO:-0800
TZNAME:PST
DTSTART:20261101T090000
END:STANDARD
BEGIN:DAYLIGHT
TZOFFSETFROM:-0800
TZOFFSETTO:-0700
TZNAME:PDT
DTSTART:20270314T100000
END:DAYLIGHT
BEGIN:STANDARD
TZOFFSETFROM:-0700
TZOFFSETTO:-0800
TZNAME:PST
DTSTART:20271107T090000
END:STANDARD
END:VTIMEZONE
BEGIN:VEVENT
DTSTART;VALUE=DATE:20260416
DTEND;VALUE=DATE:20260516
DTSTAMP:20260423T120808
CREATED:20260416T204931Z
LAST-MODIFIED:20260420T182131Z
UID:7045-1776297600-1778889599@backeddy.ca
SUMMARY:🌊  50% Off Moorage
DESCRIPTION:Tie up and save 50% OFF!\nEnjoy 50% off moorage until May 15th at the Backeddy Marina! Whether you are stopping in for a night or settling in for a longer stay\, this is the perfect time to dock and unwind. Spaces are limited and this offer will fill up quickly. Book your slip and make the most of the season on the water. \nCALL TO BOOK NOW\nImportant note: Terms and conditions apply. Offer valid until May 15. Subject to availability. Not eligible to combine with other promotions.
URL:https://backeddy.ca/event/moorage-discount-sunshine-coast/
LOCATION:Backeddy Resort
CATEGORIES:Accommodation Getaways & Specials
ATTACH;FMTTYPE=image/jpeg:https://backeddy.ca/wp-content/uploads/2026/04/event-50-off-moorage.jpg
END:VEVENT
BEGIN:VEVENT
DTSTART;VALUE=DATE:20260417
DTEND;VALUE=DATE:20260511
DTSTAMP:20260423T120808
CREATED:20260416T221733Z
LAST-MODIFIED:20260420T183035Z
UID:7068-1776384000-1778457599@backeddy.ca
SUMMARY:🌊 Arrive in Style
DESCRIPTION:Arrive in style this Spring!\nBook any cabin for 2 nights and receive a complimentary bottle of red\, white\, or sparkling wine (your choice)\, along with a cheese platter for two prepared by our culinary team and a dessert to share. Ready for you on arrival – the perfect start to your stay. \nBOOK NOW\nBooking must be made through the Backeddy Resort website. Valid on Modern Oceanfront Cabin bookings only. Minimum 2-night stay required. Offer available for purchase from April 17 to May 10\, 2026. Subject to availability. Not valid in combination with other promotions.
URL:https://backeddy.ca/event/arrive-in-style-package/
LOCATION:Backeddy Resort
CATEGORIES:Accommodation Getaways & Specials
ATTACH;FMTTYPE=image/jpeg:https://backeddy.ca/wp-content/uploads/2026/04/event-arrive-in-style.jpg
END:VEVENT
END:VCALENDAR